BEGIN:VCALENDAR
VERSION:2.0
PRODID:-//jEvents 2.0 for Joomla//EN
CALSCALE:GREGORIAN
METHOD:PUBLISH
BEGIN:VTIMEZONE
TZID:Europe/Berlin
BEGIN:STANDARD
DTSTART:20231029T020000
RDATE:20240331T030000
TZOFFSETFROM:+0200
TZOFFSETTO:+0100
TZNAME:Europe/Berlin CET
END:STANDARD
BEGIN:STANDARD
DTSTART:20241027T020000
RDATE:20250330T030000
TZOFFSETFROM:+0200
TZOFFSETTO:+0100
TZNAME:Europe/Berlin CET
END:STANDARD
BEGIN:STANDARD
DTSTART:20251026T020000
RDATE:20260329T030000
TZOFFSETFROM:+0200
TZOFFSETTO:+0100
TZNAME:Europe/Berlin CET
END:STANDARD
BEGIN:STANDARD
DTSTART:20261025T020000
RDATE:20270328T030000
TZOFFSETFROM:+0200
TZOFFSETTO:+0100
TZNAME:Europe/Berlin CET
END:STANDARD
BEGIN:STANDARD
DTSTART:20271031T020000
RDATE:20280326T030000
TZOFFSETFROM:+0200
TZOFFSETTO:+0100
TZNAME:Europe/Berlin CET
END:STANDARD
BEGIN:STANDARD
DTSTART:20281029T020000
RDATE:20290325T030000
TZOFFSETFROM:+0200
TZOFFSETTO:+0100
TZNAME:Europe/Berlin CET
END:STANDARD
BEGIN:STANDARD
DTSTART:20291028T020000
RDATE:20300331T030000
TZOFFSETFROM:+0200
TZOFFSETTO:+0100
TZNAME:Europe/Berlin CET
END:STANDARD
BEGIN:STANDARD
DTSTART:20301027T020000
RDATE:20310330T030000
TZOFFSETFROM:+0200
TZOFFSETTO:+0100
TZNAME:Europe/Berlin CET
END:STANDARD
BEGIN:DAYLIGHT
DTSTART:20230518T173000
RDATE:20231029T020000
TZOFFSETFROM:+0100
TZOFFSETTO:+0200
TZNAME:Europe/Berlin CEST
END:DAYLIGHT
BEGIN:DAYLIGHT
DTSTART:20240331T030000
RDATE:20241027T020000
TZOFFSETFROM:+0100
TZOFFSETTO:+0200
TZNAME:Europe/Berlin CEST
END:DAYLIGHT
BEGIN:DAYLIGHT
DTSTART:20250330T030000
RDATE:20251026T020000
TZOFFSETFROM:+0100
TZOFFSETTO:+0200
TZNAME:Europe/Berlin CEST
END:DAYLIGHT
BEGIN:DAYLIGHT
DTSTART:20260329T030000
RDATE:20261025T020000
TZOFFSETFROM:+0100
TZOFFSETTO:+0200
TZNAME:Europe/Berlin CEST
END:DAYLIGHT
BEGIN:DAYLIGHT
DTSTART:20270328T030000
RDATE:20271031T020000
TZOFFSETFROM:+0100
TZOFFSETTO:+0200
TZNAME:Europe/Berlin CEST
END:DAYLIGHT
BEGIN:DAYLIGHT
DTSTART:20280326T030000
RDATE:20281029T020000
TZOFFSETFROM:+0100
TZOFFSETTO:+0200
TZNAME:Europe/Berlin CEST
END:DAYLIGHT
BEGIN:DAYLIGHT
DTSTART:20290325T030000
RDATE:20291028T020000
TZOFFSETFROM:+0100
TZOFFSETTO:+0200
TZNAME:Europe/Berlin CEST
END:DAYLIGHT
BEGIN:DAYLIGHT
DTSTART:20300331T030000
RDATE:20301027T020000
TZOFFSETFROM:+0100
TZOFFSETTO:+0200
TZNAME:Europe/Berlin CEST
END:DAYLIGHT
END:VTIMEZONE
BEGIN:VEVENT
UID:7baf7bf1c369abfea0b026f811805834
CATEGORIES:Kultur
CREATED:20240509T080202
SUMMARY:Ein Fest für die große polnische Dichterin Wisława Szymborska 
LOCATION:Thearersaal Klandorf
DESCRIPTION:Liebe Freundinnen, liebe Freunde, wir laden Sie und Euch zu einem Fest für 
 die große polnische Dichterin Wisława Szymborskaam 18. Mai 2024, 17:30 Uhr,
  in den THEATERSAAL. Wir feiern die Gedichte der Nobelpreisträgerin und die
  Erfahrung, dass Poesie eine Möglichkeit ist, die Welt zu entdecken. Es wir
 ken mit: die Übersetzerin Renate Schmidgall, die Autoren Holger Teschke und
  Przemek Zybowski und der Gedicht-Lesekreis des THEATERSAALs. Lassen Sie si
 ch einladen zu einer Begegnung mit der Leichtigkeit dieser Gedichte, ihrem 
 Witz, der Tiefe und der Freiheit des Wortes - zu einem Fest für die Poesie.
  Herzlich grüßenCorinna Harfouch und Erdmut Wizisla Gefördert vom Landkreis
  Barnim  Unsere nächsten Veranstaltungen:2. Juni, 14 bis 17 Uhr: KINDERFEST
  - Peter Müller spielt TISCHLEIN DECK DICH, Corinna Harfouch liest aus dem 
 Buch NUR EIN TAG vor, es gibt Spiele, Limonade und Waffeln. Für Groß und Kl
 ein.6./7. Juli, jeweils 17:30 Uhr: DORFLIFE. FREUNDLICH DANEBEN. Der THEATE
 RKLAN präsentiert sein erstes Theaterstück.
X-ALT-DESC;FMTTYPE=text/html:<div class="default-style">Liebe Freundinnen, liebe Freunde,</div><div>&nbs
 p;</div><div class="default-style">wir laden Sie und Euch zu einem Fest für
  die große polnische Dichterin Wisława Szymborska</div><div class="default-
 style"><strong>am 18. Mai 2024, 17:30 Uhr, in den THEATERSAAL.</strong></di
 v><div>&nbsp;</div><div class="default-style"><div>Wir feiern die <strong>G
 edichte der Nobelpreisträgerin</strong> und die Erfahrung, dass Poesie eine
  Möglichkeit ist, die Welt zu entdecken.</div><div>&nbsp;</div><div>Es wirk
 en mit: die Übersetzerin Renate Schmidgall, die Autoren Holger Teschke und 
 Przemek Zybowski und der Gedicht-Lesekreis des THEATERSAALs.</div><div>&nbs
 p;</div><div>Lassen Sie sich einladen zu einer Begegnung mit der Leichtigke
 it dieser Gedichte, ihrem Witz, der Tiefe und der Freiheit des Wortes - zu 
 einem Fest für die Poesie.</div><div>&nbsp;</div><div>Herzlich grüßen</div>
 Corinna Harfouch und Erdmut Wizisla</div><div class="default-style">&nbsp;<
 /div><div class="default-style">Gefördert vom Landkreis Barnim</div><div cl
 ass="default-style">&nbsp;</div><div class="default-style"><div class="defa
 ult-style"><div class="default-style">&nbsp;</div><div class="default-style
 ">Unsere nächsten Veranstaltungen:</div><div class="default-style"><div cla
 ss="default-style">2. Juni, 14 bis 17 Uhr: KINDERFEST - Peter Müller spielt
  TISCHLEIN DECK DICH, Corinna Harfouch liest aus dem Buch NUR EIN TAG vor, 
 es gibt Spiele, Limonade und Waffeln. Für Groß und Klein.</div><div class="
 default-style"><div class="default-style">6./7. Juli, jeweils 17:30 Uhr: DO
 RFLIFE. FREUNDLICH DANEBEN. Der THEATERKLAN präsentiert sein erstes Theater
 stück.</div></div></div></div></div>
CONTACT:https://theatersaal-klandorf.de/
DTSTAMP:20260423T131654
DTSTART;TZID=Europe/Berlin:20240518T173000
SEQUENCE:0
TRANSP:OPAQUE
END:VEVENT
END:VCALENDAR