BEGIN:VCALENDAR
VERSION:2.0
PRODID:-//jEvents 2.0 for Joomla//EN
CALSCALE:GREGORIAN
METHOD:PUBLISH
BEGIN:VTIMEZONE
TZID:Europe/Berlin
BEGIN:STANDARD
DTSTART:20241027T020000
RDATE:20250330T030000
TZOFFSETFROM:+0200
TZOFFSETTO:+0100
TZNAME:Europe/Berlin CET
END:STANDARD
BEGIN:STANDARD
DTSTART:20251026T020000
RDATE:20260329T030000
TZOFFSETFROM:+0200
TZOFFSETTO:+0100
TZNAME:Europe/Berlin CET
END:STANDARD
BEGIN:STANDARD
DTSTART:20261025T020000
RDATE:20270328T030000
TZOFFSETFROM:+0200
TZOFFSETTO:+0100
TZNAME:Europe/Berlin CET
END:STANDARD
BEGIN:STANDARD
DTSTART:20271031T020000
RDATE:20280326T030000
TZOFFSETFROM:+0200
TZOFFSETTO:+0100
TZNAME:Europe/Berlin CET
END:STANDARD
BEGIN:STANDARD
DTSTART:20281029T020000
RDATE:20290325T030000
TZOFFSETFROM:+0200
TZOFFSETTO:+0100
TZNAME:Europe/Berlin CET
END:STANDARD
BEGIN:STANDARD
DTSTART:20291028T020000
RDATE:20300331T030000
TZOFFSETFROM:+0200
TZOFFSETTO:+0100
TZNAME:Europe/Berlin CET
END:STANDARD
BEGIN:STANDARD
DTSTART:20301027T020000
RDATE:20310330T030000
TZOFFSETFROM:+0200
TZOFFSETTO:+0100
TZNAME:Europe/Berlin CET
END:STANDARD
BEGIN:DAYLIGHT
DTSTART:20241017T120000
RDATE:20241027T020000
TZOFFSETFROM:+0100
TZOFFSETTO:+0200
TZNAME:Europe/Berlin CEST
END:DAYLIGHT
BEGIN:DAYLIGHT
DTSTART:20250330T030000
RDATE:20251026T020000
TZOFFSETFROM:+0100
TZOFFSETTO:+0200
TZNAME:Europe/Berlin CEST
END:DAYLIGHT
BEGIN:DAYLIGHT
DTSTART:20260329T030000
RDATE:20261025T020000
TZOFFSETFROM:+0100
TZOFFSETTO:+0200
TZNAME:Europe/Berlin CEST
END:DAYLIGHT
BEGIN:DAYLIGHT
DTSTART:20270328T030000
RDATE:20271031T020000
TZOFFSETFROM:+0100
TZOFFSETTO:+0200
TZNAME:Europe/Berlin CEST
END:DAYLIGHT
BEGIN:DAYLIGHT
DTSTART:20280326T030000
RDATE:20281029T020000
TZOFFSETFROM:+0100
TZOFFSETTO:+0200
TZNAME:Europe/Berlin CEST
END:DAYLIGHT
BEGIN:DAYLIGHT
DTSTART:20290325T030000
RDATE:20291028T020000
TZOFFSETFROM:+0100
TZOFFSETTO:+0200
TZNAME:Europe/Berlin CEST
END:DAYLIGHT
BEGIN:DAYLIGHT
DTSTART:20300331T030000
RDATE:20301027T020000
TZOFFSETFROM:+0100
TZOFFSETTO:+0200
TZNAME:Europe/Berlin CEST
END:DAYLIGHT
END:VTIMEZONE
BEGIN:VEVENT
UID:e663032ca3f4f38fac80ffc2b9718548
CATEGORIES:Fest
CREATED:20251004T125250
SUMMARY:Kürbisschnitzfest
LOCATION:Bauernhof Liebenthal\, Dorfallee 28
DESCRIPTION:Kürbisschnitzfest in Liebenthal\n\nAm 18. und 25. Oktober 2025 von 12 bis 1
 8 Uhr\nals Spaß in ländlicher Idylle mit\n- Dampfkartoffeln udn Quark\n- Kü
 rbissuppe\n- Getränken\n- frischen Waffeln\nund kleiner Landmaschinenausste
 llung auf dem Bauernhof\nin der Dorfsllee 28\nBitte eigenes Schitzwerkzeug 
 mitbringen!
X-ALT-DESC;FMTTYPE=text/html:Kürbisschnitzfest in Liebenthal<br /><br />Am 18. und 25. Oktober 2025 von 
 12 bis 18 Uhr<br />als Spaß in ländlicher Idylle mit<br />- Dampfkartoffeln
  udn Quark<br />- Kürbissuppe<br />- Getränken<br />- frischen Waffeln<br /
 >und kleiner Landmaschinenausstellung auf dem Bauernhof<br />in der Dorfsll
 ee 28<br />Bitte eigenes Schitzwerkzeug mitbringen!
DTSTAMP:20260423T185331
DTSTART;TZID=Europe/Berlin:20251018T120000
DTEND;TZID=Europe/Berlin:20251018T180000
SEQUENCE:0
TRANSP:OPAQUE
END:VEVENT
END:VCALENDAR