BEGIN:VCALENDAR
VERSION:2.0
PRODID:-//jEvents 2.0 for Joomla//EN
CALSCALE:GREGORIAN
METHOD:PUBLISH
BEGIN:VTIMEZONE
TZID:Europe/Berlin
BEGIN:STANDARD
DTSTART:20250228T173000
RDATE:20250330T030000
TZOFFSETFROM:+0200
TZOFFSETTO:+0100
TZNAME:Europe/Berlin CET
END:STANDARD
BEGIN:STANDARD
DTSTART:20251026T020000
RDATE:20260329T030000
TZOFFSETFROM:+0200
TZOFFSETTO:+0100
TZNAME:Europe/Berlin CET
END:STANDARD
BEGIN:STANDARD
DTSTART:20261025T020000
RDATE:20270328T030000
TZOFFSETFROM:+0200
TZOFFSETTO:+0100
TZNAME:Europe/Berlin CET
END:STANDARD
BEGIN:STANDARD
DTSTART:20271031T020000
RDATE:20280326T030000
TZOFFSETFROM:+0200
TZOFFSETTO:+0100
TZNAME:Europe/Berlin CET
END:STANDARD
BEGIN:STANDARD
DTSTART:20281029T020000
RDATE:20290325T030000
TZOFFSETFROM:+0200
TZOFFSETTO:+0100
TZNAME:Europe/Berlin CET
END:STANDARD
BEGIN:STANDARD
DTSTART:20291028T020000
RDATE:20300331T030000
TZOFFSETFROM:+0200
TZOFFSETTO:+0100
TZNAME:Europe/Berlin CET
END:STANDARD
BEGIN:STANDARD
DTSTART:20301027T020000
RDATE:20310330T030000
TZOFFSETFROM:+0200
TZOFFSETTO:+0100
TZNAME:Europe/Berlin CET
END:STANDARD
BEGIN:DAYLIGHT
DTSTART:20250330T030000
RDATE:20251026T020000
TZOFFSETFROM:+0100
TZOFFSETTO:+0200
TZNAME:Europe/Berlin CEST
END:DAYLIGHT
BEGIN:DAYLIGHT
DTSTART:20260329T030000
RDATE:20261025T020000
TZOFFSETFROM:+0100
TZOFFSETTO:+0200
TZNAME:Europe/Berlin CEST
END:DAYLIGHT
BEGIN:DAYLIGHT
DTSTART:20270328T030000
RDATE:20271031T020000
TZOFFSETFROM:+0100
TZOFFSETTO:+0200
TZNAME:Europe/Berlin CEST
END:DAYLIGHT
BEGIN:DAYLIGHT
DTSTART:20280326T030000
RDATE:20281029T020000
TZOFFSETFROM:+0100
TZOFFSETTO:+0200
TZNAME:Europe/Berlin CEST
END:DAYLIGHT
BEGIN:DAYLIGHT
DTSTART:20290325T030000
RDATE:20291028T020000
TZOFFSETFROM:+0100
TZOFFSETTO:+0200
TZNAME:Europe/Berlin CEST
END:DAYLIGHT
BEGIN:DAYLIGHT
DTSTART:20300331T030000
RDATE:20301027T020000
TZOFFSETFROM:+0100
TZOFFSETTO:+0200
TZNAME:Europe/Berlin CEST
END:DAYLIGHT
END:VTIMEZONE
BEGIN:VEVENT
UID:8065d794c5107b68d52018839f23a21d
CATEGORIES:Kultur
CREATED:20260219T104433
SUMMARY:PRIMA FACIE, das preisgekrönte Monologstück der australischen Autorin Suzie Miller über die junge Strafrechtsanwältin Tessa Ensler
LOCATION:Theatersaal Klandorf
DESCRIPTION:Liebe Freundinnen, liebe Freunde,\n\nam Sonntag, dem 1. März 2026, 17:30 Uh
 r spielt Lena Dörrie das großartige Stück PRIMA FACIE von Suzie Miller. \n\
 nPRIMA FACIE, das preisgekrönte Monologstück der australischen Autorin Suzi
 e Miller über die junge Strafrechtsanwältin Tessa Ensler, steht momentan we
 ltweit auf unzähligen Theaterspielplänen, es gilt als Stück der Stunde.\n\n
 Tessa zählt auf ihrem Gebiet zu einer der größten Hoffnungen im Londoner Ju
 stizwesen. Sie hat sich auf die Verteidigung von Mandanten spezialisiert, d
 ie wegen der Ausübung von sexualisierter Gewalt vor Gericht stehen, und es 
 ist lange her, dass sie einen Prozess verloren hat. Als sie jedoch selbst d
 as Opfer einer Vergewaltigung wird, gerät ihr Glauben an das System, das si
 e bislang brennend verteidigt hat, immer mehr ins Wanken …\n\n\nDie gefeier
 te Inszenierung des Stadttheaters Fürth ist einmalig im THEATERSAAL KLANDOR
 F zu sehen.\nWir freuen uns sehr auf die Vorstellung und laden Sie und Euch
  herzlich dazu ein!\nCorinna Harfouch und Erdmut Wizisla\n \nPRIMA FACIE\nv
 on Suzie Miller\nDeutsch von Anne Rabe\nMit Lena Dörrie\nRegie: Nilufar K. 
 Münzing\nMit freundlicher Genehmigung der Gustav Kiepenheuer Bühnenvertrieb
 s-GmbH\n \n \nLena Dörrie studierte Schauspiel an der Bayerischen Theaterak
 ademie August Everding in München. Bereits 2003, während ihres zweiten Stud
 ienjahrs, wurde sie am Bayerischen Staatsschauspiel engagiert und war dort 
 bis 2010 in zahlreichen Produktionen zu sehen. 2006 erhielt sie sowohl den 
 Kurt-Meisel-Förderpreis als auch den Förderpreis des Münchner Merkurs als b
 este Nachwuchsschauspielerin. \nVon 2008 bis 2012 war sie Ensemblemitglied 
 der erfolgreichen Comedyserie „Ladykracher“. 2008 spielte sie ihre erste Ha
 uptrolle im deutsch-schweizerischen Kinofilm „Im Sog der Nacht“, woraufhin 
 zahlreiche weitere Film- und Fernsehrollen folgten. In ihrer Rollenauswahl 
 legt sie stets Wert darauf, sich in unterschiedlichen Genres auszuprobieren
 . Auch als Hörspiel- und Hörbuchsprecherin ist sie aktiv. Zuletzt sah man s
 ie ua. in der Murder Mystery Komödie „Fabian und die mörderische Hochzeit“ 
 an der Seite von Bastian Pastewka (Prime Video) oder als Hauptkommissarin V
 iktoria Lorentzen in der ZDF-Krimiserie „Mordsschwestern“. Mit dem Monologs
 tück „Prima Facie“ feierte sie am 25.01.2025 am Stadttheater Fürth Premiere
 . \n \nUnsre nächsten Veranstaltungen:\n12. April, 17:30 Uhr: WIR SIND EIN 
 TRAUM DER ZEITEN mit ArsmusicaElletrica\n9. Mai, 17:30 Uhr: MADRE von Marta
  Barcelós mit Wera Herzberg und Inka Löwendorf (Heimathafen Neukölln)\n \n\
 n 
X-ALT-DESC;FMTTYPE=text/html:Liebe Freundinnen, liebe Freunde,<br /><br />am Sonntag, dem 1. März 2026, 
 17:30 Uhr spielt Lena Dörrie das großartige Stück PRIMA FACIE von Suzie Mil
 ler. <br /><br />PRIMA FACIE, das preisgekrönte Monologstück der australisc
 hen Autorin Suzie Miller über die junge Strafrechtsanwältin Tessa Ensler, s
 teht momentan weltweit auf unzähligen Theaterspielplänen, es gilt als Stück
  der Stunde.<br /><br />Tessa zählt auf ihrem Gebiet zu einer der größten H
 offnungen im Londoner Justizwesen. Sie hat sich auf die Verteidigung von Ma
 ndanten spezialisiert, die wegen der Ausübung von sexualisierter Gewalt vor
  Gericht stehen, und es ist lange her, dass sie einen Prozess verloren hat.
  Als sie jedoch selbst das Opfer einer Vergewaltigung wird, gerät ihr Glaub
 en an das System, das sie bislang brennend verteidigt hat, immer mehr ins W
 anken …<br /><br /><br />Die gefeierte Inszenierung des Stadttheaters Fürth
  ist einmalig im THEATERSAAL KLANDORF zu sehen.<br />Wir freuen uns sehr au
 f die Vorstellung und laden Sie und Euch herzlich dazu ein!<br />Corinna Ha
 rfouch und Erdmut Wizisla<br /> <br />PRIMA FACIE<br />von Suzie Miller<br 
 />Deutsch von Anne Rabe<br />Mit Lena Dörrie<br />Regie: Nilufar K. Münzing
 <br />Mit freundlicher Genehmigung der Gustav Kiepenheuer Bühnenvertriebs-G
 mbH<br /> <br /> <br />Lena Dörrie studierte Schauspiel an der Bayerischen 
 Theaterakademie August Everding in München. Bereits 2003, während ihres zwe
 iten Studienjahrs, wurde sie am Bayerischen Staatsschauspiel engagiert und 
 war dort bis 2010 in zahlreichen Produktionen zu sehen. 2006 erhielt sie so
 wohl den Kurt-Meisel-Förderpreis als auch den Förderpreis des Münchner Merk
 urs als beste Nachwuchsschauspielerin. <br />Von 2008 bis 2012 war sie Ense
 mblemitglied der erfolgreichen Comedyserie „Ladykracher“. 2008 spielte sie 
 ihre erste Hauptrolle im deutsch-schweizerischen Kinofilm „Im Sog der Nacht
 “, woraufhin zahlreiche weitere Film- und Fernsehrollen folgten. In ihrer R
 ollenauswahl legt sie stets Wert darauf, sich in unterschiedlichen Genres a
 uszuprobieren. Auch als Hörspiel- und Hörbuchsprecherin ist sie aktiv. Zule
 tzt sah man sie ua. in der Murder Mystery Komödie „Fabian und die mörderisc
 he Hochzeit“ an der Seite von Bastian Pastewka (Prime Video) oder als Haupt
 kommissarin Viktoria Lorentzen in der ZDF-Krimiserie „Mordsschwestern“. Mit
  dem Monologstück „Prima Facie“ feierte sie am 25.01.2025 am Stadttheater F
 ürth Premiere. <br /> <br />Unsre nächsten Veranstaltungen:<br />12. April,
  17:30 Uhr: WIR SIND EIN TRAUM DER ZEITEN mit ArsmusicaElletrica<br />9. Ma
 i, 17:30 Uhr: MADRE von Marta Barcelós mit Wera Herzberg und Inka Löwendorf
  (Heimathafen Neukölln)<br /> <br /><br /> 
CONTACT:https://theatersaal-klandorf.de
DTSTAMP:20260423T131714
DTSTART;TZID=Europe/Berlin:20260301T173000
SEQUENCE:0
TRANSP:OPAQUE
END:VEVENT
END:VCALENDAR