BEGIN:VCALENDAR
VERSION:2.0
PRODID:-//jEvents 2.0 for Joomla//EN
CALSCALE:GREGORIAN
METHOD:PUBLISH
BEGIN:VTIMEZONE
TZID:Europe/Berlin
BEGIN:STANDARD
DTSTART:20230126T190000
RDATE:20230326T030000
TZOFFSETFROM:+0200
TZOFFSETTO:+0100
TZNAME:Europe/Berlin CET
END:STANDARD
BEGIN:STANDARD
DTSTART:20231029T020000
RDATE:20240331T030000
TZOFFSETFROM:+0200
TZOFFSETTO:+0100
TZNAME:Europe/Berlin CET
END:STANDARD
BEGIN:STANDARD
DTSTART:20241027T020000
RDATE:20250330T030000
TZOFFSETFROM:+0200
TZOFFSETTO:+0100
TZNAME:Europe/Berlin CET
END:STANDARD
BEGIN:STANDARD
DTSTART:20251026T020000
RDATE:20260329T030000
TZOFFSETFROM:+0200
TZOFFSETTO:+0100
TZNAME:Europe/Berlin CET
END:STANDARD
BEGIN:STANDARD
DTSTART:20261025T020000
RDATE:20270328T030000
TZOFFSETFROM:+0200
TZOFFSETTO:+0100
TZNAME:Europe/Berlin CET
END:STANDARD
BEGIN:STANDARD
DTSTART:20271031T020000
RDATE:20280326T030000
TZOFFSETFROM:+0200
TZOFFSETTO:+0100
TZNAME:Europe/Berlin CET
END:STANDARD
BEGIN:STANDARD
DTSTART:20281029T020000
RDATE:20290325T030000
TZOFFSETFROM:+0200
TZOFFSETTO:+0100
TZNAME:Europe/Berlin CET
END:STANDARD
BEGIN:STANDARD
DTSTART:20291028T020000
RDATE:20300331T030000
TZOFFSETFROM:+0200
TZOFFSETTO:+0100
TZNAME:Europe/Berlin CET
END:STANDARD
BEGIN:STANDARD
DTSTART:20301027T020000
RDATE:20310330T030000
TZOFFSETFROM:+0200
TZOFFSETTO:+0100
TZNAME:Europe/Berlin CET
END:STANDARD
BEGIN:DAYLIGHT
DTSTART:20230326T030000
RDATE:20231029T020000
TZOFFSETFROM:+0100
TZOFFSETTO:+0200
TZNAME:Europe/Berlin CEST
END:DAYLIGHT
BEGIN:DAYLIGHT
DTSTART:20240331T030000
RDATE:20241027T020000
TZOFFSETFROM:+0100
TZOFFSETTO:+0200
TZNAME:Europe/Berlin CEST
END:DAYLIGHT
BEGIN:DAYLIGHT
DTSTART:20250330T030000
RDATE:20251026T020000
TZOFFSETFROM:+0100
TZOFFSETTO:+0200
TZNAME:Europe/Berlin CEST
END:DAYLIGHT
BEGIN:DAYLIGHT
DTSTART:20260329T030000
RDATE:20261025T020000
TZOFFSETFROM:+0100
TZOFFSETTO:+0200
TZNAME:Europe/Berlin CEST
END:DAYLIGHT
BEGIN:DAYLIGHT
DTSTART:20270328T030000
RDATE:20271031T020000
TZOFFSETFROM:+0100
TZOFFSETTO:+0200
TZNAME:Europe/Berlin CEST
END:DAYLIGHT
BEGIN:DAYLIGHT
DTSTART:20280326T030000
RDATE:20281029T020000
TZOFFSETFROM:+0100
TZOFFSETTO:+0200
TZNAME:Europe/Berlin CEST
END:DAYLIGHT
BEGIN:DAYLIGHT
DTSTART:20290325T030000
RDATE:20291028T020000
TZOFFSETFROM:+0100
TZOFFSETTO:+0200
TZNAME:Europe/Berlin CEST
END:DAYLIGHT
BEGIN:DAYLIGHT
DTSTART:20300331T030000
RDATE:20301027T020000
TZOFFSETFROM:+0100
TZOFFSETTO:+0200
TZNAME:Europe/Berlin CEST
END:DAYLIGHT
END:VTIMEZONE
BEGIN:VEVENT
UID:d580c16d320af43e86ed45114403a31d
CATEGORIES:Fest
CREATED:20240121T063713
SUMMARY:Faschingsdisco im Theatersaal Klandorf
LOCATION:Theatersaal Klandorf
DESCRIPTION:<div>Liebe Freundinnen, liebe Freunde,</div><div class="default-style"><div
  class="default-style">wir laden zu einer FASCHINGSDISCO in den THEATERSAAL
 :</div><div>&nbsp;</div><div class="default-style">am <strong>27. Januar</s
 trong>, ab 19 Uhr</div><div>&nbsp;</div><div class="default-style">mit DJ R
 obert</div><div class="default-style">Verkleidung ist keine Pflicht, aber d
 as beste Kostüm gewinnt!</div><div>&nbsp;</div><div class="default-style">H
 erzliche Grüße</div><div class="default-style">Corinna Harfouch und Erdmut 
 Wizisla<div class="default-style">&nbsp;</div><div class="default-style"><d
 iv class="default-style">&nbsp;</div><div class="default-style">Unsere näch
 sten Veranstaltungen:</div><div class="default-style"><div class="default-s
 tyle">3. Febr., 17:30 Uhr: <em>ORLANDO</em> von Virginia Woolf, mit Corinna
  Harfouch und Oscar Olivo (Theater) <br />17. Febr., 17:30 Uhr: <em>SCHLAGE
 RTAFEL</em> mit Katharina Thalbach, Thomas Quasthoff, Christoph Israel und 
 Corinna Harfouch <br />2. März, <strong>15:30 Uhr</strong> (Achtung, andere
  Uhrzeit!): <em>AUF BEIDEN SEITEN. Die Berliner Polizei an der Mauer</em>, 
 mit Ute Kähler und Michael Keusch (Buchvorstellung)</div><div class="defaul
 t-style">6. April, 17:30 Uhr: STIMMEN DER UKRAINE mit Iryna Lazer, Mareile 
 Metzner, Nataliia Kuprynenko, Iryna Razin-Kravchenko, Jan Uplegger und Dani
 il Zverkhanovsky (Eine musikalische Reise durch die Literatur der Ukraine)<
 /div><div class="default-style">&nbsp;</div></div></div></div></div>
DTSTAMP:20260423T134231
DTSTART;TZID=Europe/Berlin:20240127T190000
SEQUENCE:0
TRANSP:OPAQUE
END:VEVENT
END:VCALENDAR