BEGIN:VCALENDAR
VERSION:2.0
PRODID:-//jEvents 2.0 for Joomla//EN
CALSCALE:GREGORIAN
METHOD:PUBLISH
BEGIN:VTIMEZONE
TZID:Europe/Berlin
BEGIN:STANDARD
DTSTART:20241101T173000
RDATE:20250330T030000
TZOFFSETFROM:+0200
TZOFFSETTO:+0100
TZNAME:Europe/Berlin CET
END:STANDARD
BEGIN:STANDARD
DTSTART:20251026T020000
RDATE:20260329T030000
TZOFFSETFROM:+0200
TZOFFSETTO:+0100
TZNAME:Europe/Berlin CET
END:STANDARD
BEGIN:STANDARD
DTSTART:20261025T020000
RDATE:20270328T030000
TZOFFSETFROM:+0200
TZOFFSETTO:+0100
TZNAME:Europe/Berlin CET
END:STANDARD
BEGIN:STANDARD
DTSTART:20271031T020000
RDATE:20280326T030000
TZOFFSETFROM:+0200
TZOFFSETTO:+0100
TZNAME:Europe/Berlin CET
END:STANDARD
BEGIN:STANDARD
DTSTART:20281029T020000
RDATE:20290325T030000
TZOFFSETFROM:+0200
TZOFFSETTO:+0100
TZNAME:Europe/Berlin CET
END:STANDARD
BEGIN:STANDARD
DTSTART:20291028T020000
RDATE:20300331T030000
TZOFFSETFROM:+0200
TZOFFSETTO:+0100
TZNAME:Europe/Berlin CET
END:STANDARD
BEGIN:STANDARD
DTSTART:20301027T020000
RDATE:20310330T030000
TZOFFSETFROM:+0200
TZOFFSETTO:+0100
TZNAME:Europe/Berlin CET
END:STANDARD
BEGIN:DAYLIGHT
DTSTART:20250330T030000
RDATE:20251026T020000
TZOFFSETFROM:+0100
TZOFFSETTO:+0200
TZNAME:Europe/Berlin CEST
END:DAYLIGHT
BEGIN:DAYLIGHT
DTSTART:20260329T030000
RDATE:20261025T020000
TZOFFSETFROM:+0100
TZOFFSETTO:+0200
TZNAME:Europe/Berlin CEST
END:DAYLIGHT
BEGIN:DAYLIGHT
DTSTART:20270328T030000
RDATE:20271031T020000
TZOFFSETFROM:+0100
TZOFFSETTO:+0200
TZNAME:Europe/Berlin CEST
END:DAYLIGHT
BEGIN:DAYLIGHT
DTSTART:20280326T030000
RDATE:20281029T020000
TZOFFSETFROM:+0100
TZOFFSETTO:+0200
TZNAME:Europe/Berlin CEST
END:DAYLIGHT
BEGIN:DAYLIGHT
DTSTART:20290325T030000
RDATE:20291028T020000
TZOFFSETFROM:+0100
TZOFFSETTO:+0200
TZNAME:Europe/Berlin CEST
END:DAYLIGHT
BEGIN:DAYLIGHT
DTSTART:20300331T030000
RDATE:20301027T020000
TZOFFSETFROM:+0100
TZOFFSETTO:+0200
TZNAME:Europe/Berlin CEST
END:DAYLIGHT
END:VTIMEZONE
BEGIN:VEVENT
UID:777d578143a743080f76abd48a20f390
CATEGORIES:Kultur
CREATED:20251025T105218
SUMMARY:Helmut Mooshammer liest Thomas Bernhard: "Naturgemäß grauenhaft und geschmacklos"
LOCATION:Theatersaal Klandorf
DESCRIPTION: Liebe Freundinnen, liebe Freunde,Helmut Mooshammer, der wunderbare Schausp
 ieler vom Deutschen Theater in Berlin kommt wieder in den THEATERSAAL!<br /
 >Im letzten Jahr hat er uns mit seinem Spiel ANNE-MARIE DIE SCHÖNHEIT glück
 lich gemacht. Dieses Mal liest er Texte des österreichischen Autors Thomas 
 Bernhard (1931 - 1989):<br /> <br />"NATURGEMÄSS GRAUENHAFT UND GESCHMACKLO
 S"<br />am Sonntag, den 2. November 2025, 17:30 Uhr.<br /> <br />Thomas Ber
 nhard war ein grandioser Übertreibungskünstler. Seine Werke sind eine Ankla
 ge gegen die Absurditäten der Welt und eine Abrechnung mit dem österreichis
 chen Staat, dem Kulturbetrieb, den Funktionären sowie den Zumutungen durch 
 Krankheit und Tod. Alle seine Prosa- und Theatertexte sind von atemloser Sp
 rachkraft und setzen in düsteren Satzungetümen den ganz speziellen Bernhard
 schen Humor frei.<br /> <br />Aus einer Kritik: <br />„Helmut Mooshammer la
 s die Erzählung Wiedersehen – nein, er las nicht, er war vom ersten Wort an
 , als er mit dem Zetern begann, der Dichter leibhaftig und erweckte alle ve
 rschiedenen Ebenen des Textes zum Leben. Da saß er, Thomas Bernhard, vom Le
 ben allgemein beleidigt, mit Mieselsucht in der Stimme, mit Granteln und zo
 rnigem Aufbäumen gegen die Eltern und gegen die großen und kleinen Ärgernis
 se des Lebens. Dazwischen blitzte immer wieder eine reife Abgeklärtheit auf
 . Meine Verneigung, es war ein bewegender Abend und eine schauspielerische 
 Glanzleistung.“<br />(Alpenpost, Bad Aussee)<br /> <br />Lasst Euch das nic
 ht entgehen, Ihr werdet es lieben!<br />Corinna Harfouch und Erdmut Wizisla
 <br /> <br /> <br />Unsere nächsten Veranstaltungen:<br />Sonnabend, 29. No
 v., 17:30 Uhr: EINE RÄTSELHAFTE LIEBE - NADESHDA VON MECK UND PETER TSCHAIK
 OWSKI mit Hideyo Harada, Corinna Harfouch und Stefan Wilkening<br />Sonntag
 , 21. Dez. (4. Advent), 15:30 Uhr: ADVENTSSINGEN<br /> <br />
CONTACT:https://theatersaal-klandorf.de 
DTSTAMP:20260422T151230
DTSTART;TZID=Europe/Berlin:20251102T173000
SEQUENCE:0
TRANSP:OPAQUE
END:VEVENT
END:VCALENDAR