BEGIN:VCALENDAR
VERSION:2.0
PRODID:-//jEvents 2.0 for Joomla//EN
CALSCALE:GREGORIAN
METHOD:PUBLISH
BEGIN:VTIMEZONE
TZID:Europe/Berlin
BEGIN:STANDARD
DTSTART:20241128T173000
RDATE:20250330T030000
TZOFFSETFROM:+0200
TZOFFSETTO:+0100
TZNAME:Europe/Berlin CET
END:STANDARD
BEGIN:STANDARD
DTSTART:20251026T020000
RDATE:20260329T030000
TZOFFSETFROM:+0200
TZOFFSETTO:+0100
TZNAME:Europe/Berlin CET
END:STANDARD
BEGIN:STANDARD
DTSTART:20261025T020000
RDATE:20270328T030000
TZOFFSETFROM:+0200
TZOFFSETTO:+0100
TZNAME:Europe/Berlin CET
END:STANDARD
BEGIN:STANDARD
DTSTART:20271031T020000
RDATE:20280326T030000
TZOFFSETFROM:+0200
TZOFFSETTO:+0100
TZNAME:Europe/Berlin CET
END:STANDARD
BEGIN:STANDARD
DTSTART:20281029T020000
RDATE:20290325T030000
TZOFFSETFROM:+0200
TZOFFSETTO:+0100
TZNAME:Europe/Berlin CET
END:STANDARD
BEGIN:STANDARD
DTSTART:20291028T020000
RDATE:20300331T030000
TZOFFSETFROM:+0200
TZOFFSETTO:+0100
TZNAME:Europe/Berlin CET
END:STANDARD
BEGIN:STANDARD
DTSTART:20301027T020000
RDATE:20310330T030000
TZOFFSETFROM:+0200
TZOFFSETTO:+0100
TZNAME:Europe/Berlin CET
END:STANDARD
BEGIN:DAYLIGHT
DTSTART:20250330T030000
RDATE:20251026T020000
TZOFFSETFROM:+0100
TZOFFSETTO:+0200
TZNAME:Europe/Berlin CEST
END:DAYLIGHT
BEGIN:DAYLIGHT
DTSTART:20260329T030000
RDATE:20261025T020000
TZOFFSETFROM:+0100
TZOFFSETTO:+0200
TZNAME:Europe/Berlin CEST
END:DAYLIGHT
BEGIN:DAYLIGHT
DTSTART:20270328T030000
RDATE:20271031T020000
TZOFFSETFROM:+0100
TZOFFSETTO:+0200
TZNAME:Europe/Berlin CEST
END:DAYLIGHT
BEGIN:DAYLIGHT
DTSTART:20280326T030000
RDATE:20281029T020000
TZOFFSETFROM:+0100
TZOFFSETTO:+0200
TZNAME:Europe/Berlin CEST
END:DAYLIGHT
BEGIN:DAYLIGHT
DTSTART:20290325T030000
RDATE:20291028T020000
TZOFFSETFROM:+0100
TZOFFSETTO:+0200
TZNAME:Europe/Berlin CEST
END:DAYLIGHT
BEGIN:DAYLIGHT
DTSTART:20300331T030000
RDATE:20301027T020000
TZOFFSETFROM:+0100
TZOFFSETTO:+0200
TZNAME:Europe/Berlin CEST
END:DAYLIGHT
END:VTIMEZONE
BEGIN:VEVENT
UID:d3074d5541b759dcdf8ef39062695a3d
CATEGORIES:Kultur
CREATED:20251120T092253
SUMMARY:EINE RÄTSELVOLLE LIEBE - Peter Tschaikowski und Nadeshda von Meck
LOCATION:Theatersaal Klandorf
DESCRIPTION:Liebe Freundinnen, liebe Freunde,\nwir laden herzlich ein zu\n\nEINE RÄTSEL
 VOLLE LIEBE - Peter Tschaikowski und Nadeshda von Meck\nam 29. Nov. 2025, 1
 7:30 Uhr\n\nMit Hideyo Harada, Corinna Harfouch und Stefan Wilkening\n\nZwe
 i Menschen schreiben sich Briefe, fast vierzehn Jahre lang, sehr viele Brie
 fe: Nadeshda Filaretowna von Meck und Pjotr Iljitsch Tschaikowski. Es ist d
 ie vielleicht ungewöhnlichste Freundschaft der Musikgeschichte. Die Mäzenin
  und der Komponist sind sich nah, sehr nah sogar. Aber: Die innige Freundsc
 haft existiert nur in schriftlicher Form. Im echten Leben sprechen Nadeshda
  von Meck und Pjotr Tschaikowski nie miteinander. Den Reiz der Anonymität s
 etzen sie niemals aufs Spiel.\nCorinna Harfouch und Stefan Wilkening bringe
 n die beiden Brieffreunde in ein musikalisch umrahmtes Gespräch über Musik,
  das Leben und Tschaikowskis tiefe Liebe zu Mozart. Hideyo Harada spielt Kl
 avierwerke von Tschaikowski und Mozart.\n \nNoch ein Hinweis: Wer im letzte
 n Jahr ORLANDO (von Virginia Woolf), das Gastspiel aus Hannover, mit Corinn
 a Harfouch und Oscar Olivo verpasst hat, bekommt am 4. und 5. Dezember in d
 em mit uns befreundeten THEATER STRAHL am Ostkreuz Gelegenheit:\nhttps://ww
 w.theater-strahl.de/gastspiele/orlando\nKommt in THEATERSAAL!\nCorinna Harf
 ouch und Erdmut Wizisla\n \nUnsere letzte Veranstaltung in diesem Jahr:\nSo
 nntag, 21. Dez. (4. Advent), 15:30 Uhr: ADVENTSSINGEN\n \n\n
X-ALT-DESC;FMTTYPE=text/html:Liebe Freundinnen, liebe Freunde,<br />wir laden herzlich ein zu<br /><br /
 >EINE RÄTSELVOLLE LIEBE - Peter Tschaikowski und Nadeshda von Meck<br />am 
 29. Nov. 2025, 17:30 Uhr<br /><br />Mit Hideyo Harada, Corinna Harfouch und
  Stefan Wilkening<br /><br />Zwei Menschen schreiben sich Briefe, fast vier
 zehn Jahre lang, sehr viele Briefe: Nadeshda Filaretowna von Meck und Pjotr
  Iljitsch Tschaikowski. Es ist die vielleicht ungewöhnlichste Freundschaft 
 der Musikgeschichte. Die Mäzenin und der Komponist sind sich nah, sehr nah 
 sogar. Aber: Die innige Freundschaft existiert nur in schriftlicher Form. I
 m echten Leben sprechen Nadeshda von Meck und Pjotr Tschaikowski nie mitein
 ander. Den Reiz der Anonymität setzen sie niemals aufs Spiel.<br />Corinna 
 Harfouch und Stefan Wilkening bringen die beiden Brieffreunde in ein musika
 lisch umrahmtes Gespräch über Musik, das Leben und Tschaikowskis tiefe Lieb
 e zu Mozart. Hideyo Harada spielt Klavierwerke von Tschaikowski und Mozart.
 <br /> <br />Noch ein Hinweis: Wer im letzten Jahr ORLANDO (von Virginia Wo
 olf), das Gastspiel aus Hannover, mit Corinna Harfouch und Oscar Olivo verp
 asst hat, bekommt am 4. und 5. Dezember in dem mit uns befreundeten THEATER
  STRAHL am Ostkreuz Gelegenheit:<br />https://www.theater-strahl.de/gastspi
 ele/orlando<br />Kommt in THEATERSAAL!<br />Corinna Harfouch und Erdmut Wiz
 isla<br /> <br />Unsere letzte Veranstaltung in diesem Jahr:<br />Sonntag, 
 21. Dez. (4. Advent), 15:30 Uhr: ADVENTSSINGEN<br /> <br /><br />
CONTACT:https://theatersaal-klandorf.de
DTSTAMP:20260423T115947
DTSTART;TZID=Europe/Berlin:20251129T173000
SEQUENCE:0
TRANSP:OPAQUE
END:VEVENT
END:VCALENDAR